BEGIN:VCALENDAR
VERSION:2.0
PRODID:-//Glasbena &scaron;ola Nazarje - ECPv6.15.20//NONSGML v1.0//EN
CALSCALE:GREGORIAN
METHOD:PUBLISH
X-ORIGINAL-URL:https://gsnazarje.si
X-WR-CALDESC:Dogodki za Glasbena &scaron;ola Nazarje
REFRESH-INTERVAL;VALUE=DURATION:PT1H
X-Robots-Tag:noindex
X-PUBLISHED-TTL:PT1H
BEGIN:VTIMEZONE
TZID:Europe/Ljubljana
BEGIN:DAYLIGHT
TZOFFSETFROM:+0100
TZOFFSETTO:+0200
TZNAME:CEST
DTSTART:20230326T010000
END:DAYLIGHT
BEGIN:STANDARD
TZOFFSETFROM:+0200
TZOFFSETTO:+0100
TZNAME:CET
DTSTART:20231029T010000
END:STANDARD
BEGIN:DAYLIGHT
TZOFFSETFROM:+0100
TZOFFSETTO:+0200
TZNAME:CEST
DTSTART:20240331T010000
END:DAYLIGHT
BEGIN:STANDARD
TZOFFSETFROM:+0200
TZOFFSETTO:+0100
TZNAME:CET
DTSTART:20241027T010000
END:STANDARD
BEGIN:DAYLIGHT
TZOFFSETFROM:+0100
TZOFFSETTO:+0200
TZNAME:CEST
DTSTART:20250330T010000
END:DAYLIGHT
BEGIN:STANDARD
TZOFFSETFROM:+0200
TZOFFSETTO:+0100
TZNAME:CET
DTSTART:20251026T010000
END:STANDARD
END:VTIMEZONE
BEGIN:VEVENT
DTSTART;TZID=Europe/Ljubljana:20240402T180000
DTEND;TZID=Europe/Ljubljana:20240402T183000
DTSTAMP:20260424T171047
CREATED:20230924T155219Z
LAST-MODIFIED:20230924T155219Z
UID:10524-1712080800-1712082600@gsnazarje.si
SUMMARY:Nastop učencev
DESCRIPTION:Torek\, 2. april 2024\, ob 18. uri! \nDVORANA GLASBENE ŠOLE NAZARJE
URL:https://gsnazarje.si/event/nastop-ucencev-99/
LOCATION:Glasbena šola Nazarje\, Zadrečka cesta 37\, Nazarje\, 3331\, Slovenija
CATEGORIES:Event,Javni nastopi
ATTACH;FMTTYPE=image/jpeg:https://gsnazarje.si/wp-content/uploads/2023/09/cover_gs_nazarje_981x363_okt4-scaled.jpg
ORGANIZER;CN="Glasbena %C5%A1ola Nazarje":MAILTO:info@gsnazarje.si
END:VEVENT
BEGIN:VEVENT
DTSTART;TZID=Europe/Ljubljana:20240405T180000
DTEND;TZID=Europe/Ljubljana:20240405T190000
DTSTAMP:20260424T171047
CREATED:20240305T081401Z
LAST-MODIFIED:20240305T081401Z
UID:11364-1712340000-1712343600@gsnazarje.si
SUMMARY:Nastop tekmovalcev
DESCRIPTION:Petek\, 5. april 2024\, ob 18. uri! \nDVORANA GLASBENE ŠOLE NAZARJE
URL:https://gsnazarje.si/event/nastop-tekmovalcev-7/
LOCATION:Glasbena šola Nazarje\, Zadrečka cesta 37\, Nazarje\, 3331\, Slovenija
CATEGORIES:Event,Javni nastopi
ATTACH;FMTTYPE=image/jpeg:https://gsnazarje.si/wp-content/uploads/2023/09/cover_gs_nazarje_981x363_okt4-scaled.jpg
ORGANIZER;CN="Glasbena %C5%A1ola Nazarje":MAILTO:info@gsnazarje.si
END:VEVENT
BEGIN:VEVENT
DTSTART;TZID=Europe/Ljubljana:20240409T180000
DTEND;TZID=Europe/Ljubljana:20240409T183000
DTSTAMP:20260424T171047
CREATED:20230924T155318Z
LAST-MODIFIED:20230924T155318Z
UID:10525-1712685600-1712687400@gsnazarje.si
SUMMARY:Nastop učencev
DESCRIPTION:Torek\, 9. april 2024\, ob 18. uri! \nDVORANA GLASBENE ŠOLE NAZARJE
URL:https://gsnazarje.si/event/nastop-ucencev-100/
LOCATION:Glasbena šola Nazarje\, Zadrečka cesta 37\, Nazarje\, 3331\, Slovenija
CATEGORIES:Event,Javni nastopi
ATTACH;FMTTYPE=image/jpeg:https://gsnazarje.si/wp-content/uploads/2023/09/cover_gs_nazarje_981x363_okt4-scaled.jpg
ORGANIZER;CN="Glasbena %C5%A1ola Nazarje":MAILTO:info@gsnazarje.si
END:VEVENT
BEGIN:VEVENT
DTSTART;TZID=Europe/Ljubljana:20240412T190000
DTEND;TZID=Europe/Ljubljana:20240412T203000
DTSTAMP:20260424T171047
CREATED:20231229T175438Z
LAST-MODIFIED:20240404T055704Z
UID:10873-1712948400-1712953800@gsnazarje.si
SUMMARY:Larisa KOTNIK - flavta\, Kristina GOLOB\, klavir
DESCRIPTION:Petek\, 12. april 2024\, ob 19. uri!\nDVORANA GLASBENE ŠOLE NAZARJE \n  \nPROGRAM \nW. A. Mozart: Koncert D dur KV 314\, 1. Stavek Allegro aperto\nK. Sariaho: Laconisme de l’aile za solo flavto\nT. Böhm: Grand Polonaise v D duru\, op. 16\nE. Damaré: Le bouquet de roses\, opus 408 za pikolo in klavir\nP. Sancan: Sonatine za flavto in klavir \n  \nLarisa KOTNIK je začela flavto igrati pri še nedopolnjenih sedmih letih na GŠ Nazarje pod mentorstvom prof. Jerneja Marinška in uspešno zaključila 8 let izobraževanja. Srednješolsko izobraževanje je nadaljevala na programu splošne gimnazije na Gimnaziji Celje – Center in vzporedno izobraževanje na flavti na Gimnaziji Velenje\, kjer je leta 2020 maturirala z odliko. Svoje glasbeno popotovanje sedaj nadaljuje v tujini na Anton Bruckner Privatuniversität v Linzu (Avstrija)\, na koncertnem in pedagoškem študiju v razredu Univ. Prof. dipl.-muz. Johanne Dömötör ter Prof. Norbertu Girlingerju\, kjer obiskuje 4. letnik. V času šolanje se je udeležila več seminarjev in mojstrskih tečajev priznanih profesorjev kot so Sir James Galway\, Lady Jeanne Galway\, Emmanuel Pahud\, Walter Auer\, Eyal Ein-Habar\, Jihoon Shin\, Alberto Almarza\, Matej Zupan\, Adriana Ferreira in Eva – Nina Kozmus. Udeležila se je tudi več državnih in mednarodnih tekmovanj v Sloveniji\, Italiji\, Srbiji in Veliki Britaniji\, kjer je posegala po najvišjih priznanjih. Med nekaj najodmevnejših sodijo mednarodno tekmovanje London Young Musician 2021-2022 Season 3 (Velika Britanija\, december 2021)\, kjer je prejel platinasto nagrado in 1. mesto v kategoriji Master – starost 28 let in manj ter 2. mesto med vsemi kategorijami; finale mednarodnega tekmovanja London Young Musician 2021/2022 – London Young Musician of the Year 2022 (Velika Britanija\, april 2022)\, kjer je zmagala v finalu med 1200 udeleženci tekmovanja in prejela naziv »Flavtist leta 2022« ter nagrado »Fan’s Favorite Award« v kategoriji Master – mlajši od 28 let; mednarodno tekmovanje World Classical Music Awards 2021 (Velika Britanija\, november 2021)\, kjer je osvojila zlato plaketo v kategoriji B1 – starost 18 – 21 let; mednarodno tekmovanje Concorso Internazionale Musicale Giovanni Talenti (Italija\, april 2018)\, kjer je osvojila I. nagrado\, Sez. II kat. D; mednarodno tekmovanje Giovani musicisti za nagrado Antonio Salieri (Italija\, april 2016)\, kjer je osvojila 1. nagrado in postala absolutna zmagovalka med pihali v D kategoriji s 100/100 točkami\, osvojila nagrado “Magnani Young” in “Virtuosite” za najboljšega virtuoza med vsemi kategorijami; in mednarodno tekmovanje Concorso Internazionale per Giovanni Strumentisti (Italija\, junij 2012)\, kjer je osvojila I. nagrado in I. mesto v I. kategoriji. Larisa je prejemnica Zoisove štipendije in štipendije Rotary Cluba Ljubljana. Larisa igra 1. flavto oz. solistične parte na projektnih koncertih orkestra Anton Bruckner Privatuniversität in v Brucknerhaus-u\, v različnih komornih zasedbah\, kot solistka nastopa na večjih prireditvah po Avstriji in v Sloveniji in je solistka in 1. flavta Godbe Zgornjesavinjske doline. \n  \n  \nKristina GOLOB je šolanje pričela v Glasbeni delavnici Osminka pri ge. Miri Kelemen\, učenje klavirja je nadaljevala na Umetniški gimnaziji Velenje pri prof. Katji Žličar Marin\, študij klavirja pa z odliko zaključila na Akademiji za glasbo v razredu prof. Hinka Haasa. V okviru izmenjave se je dodatno izobraževala na Akademiji Franza Liszta v Budimpešti pri profesorjih Bálázsu Szokolayu in Lászlu Borbelyu. Udeležila se je številnih državnih in mednarodnih tekmovanj ter se predstavila na mnogih nastopih in koncertih po Sloveniji\, Hrvaški (Makarska\, Zagreb)\, Avstriji (Weinberg)\, Italiji (Udine\, Gradež\, Trst)\, na Madžarskem (Keszthely\, Tapolca\, Budimpešta)\, Poljskem (Piotrkow Trybunalsky) itd. Svoje klavirsko znanje je izpopolnjevala na mojstrskih tečajih\, poletnih šolah in seminarjih pri mednarodno priznanih profesorjih kot so Ruben Dalibaltayan\, Aleksander Serdar\, László Baranyay\, Oleg Marshev\, Julia Gubaidulina\, idr. Prejela je več srebrnih in zlatih plaket\, prvih nagrad ter priznanj za najboljše interpretacije obveznega/prostega programa na državnih in mednarodnih tekmovanjih (Slovenija\, Italija\, Srbija) v disciplinah klavir\, solfeggio in klavirski duo. Na Slavnostni akademiji ob 60-letnici Glasbene šole Fran Korun Koželjski je kot solistka izvedla prvi stavek 2. Beethovnovega klavirskega koncerta z orkestrom Slovenske filharmonije ob dirigentskem vodstvu Nikolaja Žličarja. Prav tako je izvedla dva solistična nastopa s simfoničnim orkestrom SNG Maribor pod taktirko Lorisa Voltolinija v veliki dvorani SNG Maribor in v Kozinovi dvorani v Slovenski filharmoniji\, kjer se je predstavila z Griegovim klavirskim koncertom v a-molu. Za izvedbo je prejela študentsko Prešernovo nagrado Akademije za glasbo. Solistično in komorno se je predstavila v okviru ciklov Glasbene mladine ljubljanske\, Festivala Lent\, Festivala Maribor\, Hugo Wolf za mlade\, projektov EPTE\,… Velik pomen posveča komorni glasbi; omenimo sodelovanje z glasbeniki kot so Mija Novak\, Rachel Eilat\, Katharine Büstgens\, Viktorija Razdevšek\, Dorotea Senica\, Xiaoxi Liu\, Aljaž Kalin Kante\, Urška Kastelic\, Margot Gillet\, idr. S klavirjem je projektno sodelovala pri otroški operi Hobit v produkciji Akademije za glasbo Ljubljana\, v operi Tesla Slavka Avsenika ml.\, pri glasbeni igri Zvezda in srce avtorjev Nane Forte in Jureta Ivanušiča ter baletni predstavi Svatba Igorja Stravinskega za zbor\, tolkala in štiri klavirje v izvedbi SNG Maribor. Leta 2017 je bila uradna korepetitorka mednarodnega violinističnega tekmovanja Oskar Rieding. Od leta 2019 do 2023 je bila zaposlena na Konservatoriju za glasbo in balet Maribor\, od letošnjega leta pa opravlja delo korepetitorke in profesorice klavirja na Glasbeni šoli Fran Korun Koželjski Velenje.  \n  \n 
URL:https://gsnazarje.si/event/larisa-kotnik-flavta-kristina-golob-klavir/
LOCATION:Glasbena šola Nazarje\, Zadrečka cesta 37\, Nazarje\, 3331\, Slovenija
CATEGORIES:Event,Javni nastopi
ATTACH;FMTTYPE=image/jpeg:https://gsnazarje.si/wp-content/uploads/2023/12/imgonline-com-ua-twotoone-eR5MzENfeS-scaled.jpg
ORGANIZER;CN="Glasbena %C5%A1ola Nazarje":MAILTO:info@gsnazarje.si
END:VEVENT
BEGIN:VEVENT
DTSTART;TZID=Europe/Ljubljana:20240416T180000
DTEND;TZID=Europe/Ljubljana:20240416T183000
DTSTAMP:20260424T171047
CREATED:20230924T155417Z
LAST-MODIFIED:20240327T082350Z
UID:10526-1713290400-1713292200@gsnazarje.si
SUMMARY:Nastop tekmovalcev
DESCRIPTION:Torek\, 16. april 2024\, ob 18. uri! \nDVORANA GLASBENE ŠOLE NAZARJE
URL:https://gsnazarje.si/event/nastop-ucencev-101/
LOCATION:Glasbena šola Nazarje\, Zadrečka cesta 37\, Nazarje\, 3331\, Slovenija
CATEGORIES:Event,Javni nastopi
ATTACH;FMTTYPE=image/jpeg:https://gsnazarje.si/wp-content/uploads/2023/09/cover_gs_nazarje_981x363_okt4-scaled.jpg
ORGANIZER;CN="Glasbena %C5%A1ola Nazarje":MAILTO:info@gsnazarje.si
END:VEVENT
BEGIN:VEVENT
DTSTART;TZID=Europe/Ljubljana:20240419T180000
DTEND;TZID=Europe/Ljubljana:20240419T190000
DTSTAMP:20260424T171047
CREATED:20240305T081532Z
LAST-MODIFIED:20240305T081532Z
UID:11365-1713549600-1713553200@gsnazarje.si
SUMMARY:Razredni nastop CITRARJEV
DESCRIPTION:Petek\, 19. april 2024\, ob 18. uri! \nDVORANA GLASBENE ŠOLE NAZARJE
URL:https://gsnazarje.si/event/razredni-nastop-citrarjev-3/
LOCATION:Glasbena šola Nazarje\, Zadrečka cesta 37\, Nazarje\, 3331\, Slovenija
CATEGORIES:Event,Javni nastopi,Šolski nastopi
ATTACH;FMTTYPE=image/jpeg:https://gsnazarje.si/wp-content/uploads/2023/01/jjz_2112_52583667528_o-scaled.jpg
ORGANIZER;CN="Glasbena %C5%A1ola Nazarje":MAILTO:info@gsnazarje.si
END:VEVENT
BEGIN:VEVENT
DTSTART;TZID=Europe/Ljubljana:20240423T180000
DTEND;TZID=Europe/Ljubljana:20240423T183000
DTSTAMP:20260424T171048
CREATED:20230924T155633Z
LAST-MODIFIED:20230924T155633Z
UID:10527-1713895200-1713897000@gsnazarje.si
SUMMARY:Nastop učencev
DESCRIPTION:Torek\, 23. april 2024\, ob 18. uri! \nDVORANA GLASBENE ŠOLE NAZARJE
URL:https://gsnazarje.si/event/nastop-ucencev-102/
LOCATION:Glasbena šola Nazarje\, Zadrečka cesta 37\, Nazarje\, 3331\, Slovenija
CATEGORIES:Event,Javni nastopi
ATTACH;FMTTYPE=image/jpeg:https://gsnazarje.si/wp-content/uploads/2023/09/cover_gs_nazarje_981x363_okt4-scaled.jpg
ORGANIZER;CN="Glasbena %C5%A1ola Nazarje":MAILTO:info@gsnazarje.si
END:VEVENT
BEGIN:VEVENT
DTSTART;TZID=Europe/Ljubljana:20240425T180000
DTEND;TZID=Europe/Ljubljana:20240425T190000
DTSTAMP:20260424T171048
CREATED:20240130T121253Z
LAST-MODIFIED:20240130T121253Z
UID:11248-1714068000-1714071600@gsnazarje.si
SUMMARY:Nastop učencev
DESCRIPTION:Četrtek\, 25. april 2024\, ob 18. uri! \nDVORANA KONGRESNEGA CENTRA LJUBNO
URL:https://gsnazarje.si/event/nastop-ucencev-97/
LOCATION:KONGRESNI CENTER LJUBNO\, Foršt 6\, Ljubno ob Savinji\, 03 839 17 70\, 3333\, Slovenija
CATEGORIES:Event,Javni nastopi,Šolski nastopi
ATTACH;FMTTYPE=image/jpeg:https://gsnazarje.si/wp-content/uploads/2022/08/DSC_0409-Custom.jpg
ORGANIZER;CN="Glasbena %C5%A1ola Nazarje":MAILTO:info@gsnazarje.si
END:VEVENT
END:VCALENDAR