BEGIN:VCALENDAR
VERSION:2.0
PRODID:-//Glasbena &scaron;ola Nazarje - ECPv6.15.20//NONSGML v1.0//EN
CALSCALE:GREGORIAN
METHOD:PUBLISH
X-WR-CALNAME:Glasbena &scaron;ola Nazarje
X-ORIGINAL-URL:https://gsnazarje.si
X-WR-CALDESC:Dogodki za Glasbena &scaron;ola Nazarje
REFRESH-INTERVAL;VALUE=DURATION:PT1H
X-Robots-Tag:noindex
X-PUBLISHED-TTL:PT1H
BEGIN:VTIMEZONE
TZID:Europe/Ljubljana
BEGIN:DAYLIGHT
TZOFFSETFROM:+0100
TZOFFSETTO:+0200
TZNAME:CEST
DTSTART:20220327T010000
END:DAYLIGHT
BEGIN:STANDARD
TZOFFSETFROM:+0200
TZOFFSETTO:+0100
TZNAME:CET
DTSTART:20221030T010000
END:STANDARD
BEGIN:DAYLIGHT
TZOFFSETFROM:+0100
TZOFFSETTO:+0200
TZNAME:CEST
DTSTART:20230326T010000
END:DAYLIGHT
BEGIN:STANDARD
TZOFFSETFROM:+0200
TZOFFSETTO:+0100
TZNAME:CET
DTSTART:20231029T010000
END:STANDARD
BEGIN:DAYLIGHT
TZOFFSETFROM:+0100
TZOFFSETTO:+0200
TZNAME:CEST
DTSTART:20240331T010000
END:DAYLIGHT
BEGIN:STANDARD
TZOFFSETFROM:+0200
TZOFFSETTO:+0100
TZNAME:CET
DTSTART:20241027T010000
END:STANDARD
END:VTIMEZONE
BEGIN:VEVENT
DTSTART;TZID=Europe/Ljubljana:20231202T090000
DTEND;TZID=Europe/Ljubljana:20231202T190000
DTSTAMP:20260425T005553
CREATED:20230924T151449Z
LAST-MODIFIED:20230924T151816Z
UID:10499-1701507600-1701543600@gsnazarje.si
SUMMARY:FLAVTA GRE V BAROK; koncert / delavnica
DESCRIPTION:Sobota\, 2. december 2023\, ob 9. uri! \nDVORANA GLASBENE ŠOLE NAZARJE
URL:https://gsnazarje.si/event/flavta-gre-v-barok/
LOCATION:Glasbena šola Nazarje\, Zadrečka cesta 37\, Nazarje\, 3331\, Slovenija
CATEGORIES:Event,Javni nastopi
ATTACH;FMTTYPE=image/png:https://gsnazarje.si/wp-content/uploads/2023/09/Flavta-gre-v-barok_bannerIG.png
ORGANIZER;CN="Glasbena %C5%A1ola Nazarje":MAILTO:info@gsnazarje.si
END:VEVENT
END:VCALENDAR