BEGIN:VCALENDAR
VERSION:2.0
PRODID:-//Glasbena &scaron;ola Nazarje - ECPv6.15.20//NONSGML v1.0//EN
CALSCALE:GREGORIAN
METHOD:PUBLISH
X-ORIGINAL-URL:https://gsnazarje.si
X-WR-CALDESC:Dogodki za Glasbena &scaron;ola Nazarje
REFRESH-INTERVAL;VALUE=DURATION:PT1H
X-Robots-Tag:noindex
X-PUBLISHED-TTL:PT1H
BEGIN:VTIMEZONE
TZID:Europe/Ljubljana
BEGIN:DAYLIGHT
TZOFFSETFROM:+0100
TZOFFSETTO:+0200
TZNAME:CEST
DTSTART:20220327T010000
END:DAYLIGHT
BEGIN:STANDARD
TZOFFSETFROM:+0200
TZOFFSETTO:+0100
TZNAME:CET
DTSTART:20221030T010000
END:STANDARD
BEGIN:DAYLIGHT
TZOFFSETFROM:+0100
TZOFFSETTO:+0200
TZNAME:CEST
DTSTART:20230326T010000
END:DAYLIGHT
BEGIN:STANDARD
TZOFFSETFROM:+0200
TZOFFSETTO:+0100
TZNAME:CET
DTSTART:20231029T010000
END:STANDARD
BEGIN:DAYLIGHT
TZOFFSETFROM:+0100
TZOFFSETTO:+0200
TZNAME:CEST
DTSTART:20240331T010000
END:DAYLIGHT
BEGIN:STANDARD
TZOFFSETFROM:+0200
TZOFFSETTO:+0100
TZNAME:CET
DTSTART:20241027T010000
END:STANDARD
END:VTIMEZONE
BEGIN:VEVENT
DTSTART;TZID=Europe/Ljubljana:20231205T190000
DTEND;TZID=Europe/Ljubljana:20231205T200000
DTSTAMP:20260425T010031
CREATED:20230924T152009Z
LAST-MODIFIED:20231109T171952Z
UID:10505-1701802800-1701806400@gsnazarje.si
SUMMARY:Lovro Korošec / bariton\, Barbara Verhovnik / klavir
DESCRIPTION:Torek\, 5. december 2023\, ob 19. uri! \nDVORANA GLASBENE ŠOLE NAZARJE \n  \n”Tematsko nas bo rdeča nit glasbe popeljala na občutno doživetje trpečega človeka. Tistega\, ki mu je bilo odvzeto vse in tistega\, ki je prepuščen samemu sebi. Samota\, smrt in izguba nas lahko pogubijo\, lahko pa nas naredijo še močnejše kot prej. Koncert ne zanika izgube in čustev\, ki izhajajo iz bridke realnosti. \nSpomnimo se na izgubljeno\, nikoli pa ne pozabimo na vse\, kar pa nam je v življenju ostalo.” \nIdeja samega dobrodelnega koncerta izhaja iz naravne katastrofe\, ki je Slovenijo doletela 4. avgusta. V ta namen sta baritonist Lovro Korošec in pianistka Barbara Verhovnik zastavila koncertno idejo\, za katero želita\, da ji prisluhne čim več kulturnih ustanov. Kot duo se bosta predstavila izključno na področju samospevov z deli F. Schuberta\, J. Brahmsa in G. Finzija.  \n  \nBarbara Verhovnik (1995)\, mag. gl. um.\, je svojo študijsko pot z odliko zaključila v razredu red. prof. Vladimirja Mlinarića na Akademiji za glasbo v Ljubljani. V času svojega izobraževanja je bila aktivna na področju udeleževanja državnih in mednarodnih tekmovanj (Hrvaška\, Srbija\, Slovenija\, Italija\, Rusija)\, prav tako pa se je kot solistka in korepetitorka srečevala z raznimi domačimi in tujimi odri (Madžarska\, Poljska\, Hrvaška…). Med drugim je bila tudi štipendistka Rotary Cluba\, dobitnica naziva za najboljšega korepetitorja mednarodnega tekmovanja Woodwind&Brass v Varaždinu\, dvakrat pa je kot solistka nastopila tudi v Slovenski Filharmoniji v sklopu koncertov Ob klavirju. Barbara Verhovnik je od leta 2020 zaposlena na glasbeni šoli Nazarje kot profesorica klavirja in korepetitorka\, trenutno pa se aktivno izobražuje na področju samospevov. \nLovro Korošec (1998) je slovenski baritonist\, ki je svojo operno kariero začel kot mladi pevec\, pri devetih letih je debitiral v opereti Melodije srca. Po tem impresivnem začetku je na Akademiji za glasbo Univerze v Ljubljani končal dodiplomski študij baritona. Trenutno se Korošec še naprej izpopolnjuje pod mentorstvom univ. dipl. prof. dr. Antoniusa Sola na Umetniški Univerzi v Gradcu. V času študija je kot solist nastopal v različnih opernih projektih in se poglobil tako v sodobno kot klasično opero in samospev. Pogosto sodeluje s svetovno cenjenim maestrom Georgom Pehlivanianom in nastopa kot glavni baritonist v operah\, kot so Figarova svatba\, Seviljski brivec\, Carmen in Traviata. Poleg opere se posveča tudi samospevu in redno sodeluje s pianistko Barbaro Verhovnik.
URL:https://gsnazarje.si/event/lovro-korosec-bariton-barbara-verhovnik-klavir/
LOCATION:Glasbena šola Nazarje\, Zadrečka cesta 37\, Nazarje\, 3331\, Slovenija
CATEGORIES:Event,Javni nastopi
ATTACH;FMTTYPE=image/jpeg:https://gsnazarje.si/wp-content/uploads/2023/09/D789381E-483E-4F04-8389-183B4523DB39.jpeg
ORGANIZER;CN="Glasbena %C5%A1ola Nazarje":MAILTO:info@gsnazarje.si
END:VEVENT
END:VCALENDAR