BEGIN:VCALENDAR
VERSION:2.0
PRODID:-//Glasbena &scaron;ola Nazarje - ECPv6.15.20//NONSGML v1.0//EN
CALSCALE:GREGORIAN
METHOD:PUBLISH
X-WR-CALNAME:Glasbena &scaron;ola Nazarje
X-ORIGINAL-URL:https://gsnazarje.si
X-WR-CALDESC:Dogodki za Glasbena &scaron;ola Nazarje
REFRESH-INTERVAL;VALUE=DURATION:PT1H
X-Robots-Tag:noindex
X-PUBLISHED-TTL:PT1H
BEGIN:VTIMEZONE
TZID:Europe/Ljubljana
BEGIN:DAYLIGHT
TZOFFSETFROM:+0100
TZOFFSETTO:+0200
TZNAME:CEST
DTSTART:20220327T010000
END:DAYLIGHT
BEGIN:STANDARD
TZOFFSETFROM:+0200
TZOFFSETTO:+0100
TZNAME:CET
DTSTART:20221030T010000
END:STANDARD
BEGIN:DAYLIGHT
TZOFFSETFROM:+0100
TZOFFSETTO:+0200
TZNAME:CEST
DTSTART:20230326T010000
END:DAYLIGHT
BEGIN:STANDARD
TZOFFSETFROM:+0200
TZOFFSETTO:+0100
TZNAME:CET
DTSTART:20231029T010000
END:STANDARD
BEGIN:DAYLIGHT
TZOFFSETFROM:+0100
TZOFFSETTO:+0200
TZNAME:CEST
DTSTART:20240331T010000
END:DAYLIGHT
BEGIN:STANDARD
TZOFFSETFROM:+0200
TZOFFSETTO:+0100
TZNAME:CET
DTSTART:20241027T010000
END:STANDARD
END:VTIMEZONE
BEGIN:VEVENT
DTSTART;TZID=Europe/Ljubljana:20231215T180000
DTEND;TZID=Europe/Ljubljana:20231215T193000
DTSTAMP:20260425T005752
CREATED:20230924T152552Z
LAST-MODIFIED:20231121T093727Z
UID:10507-1702663200-1702668600@gsnazarje.si
SUMMARY:Božično-novoletni koncert / gostja Sara LAMPREČNIK
DESCRIPTION:Petek\, 15. december 2023\, ob 18. uri! \nŠportna dvorana Mozirje \nGlasba ima v sebi tisto čarobno moč\, ki nam približa čar in toplino prazničnih dni. Brez petja in igranja božično-novoletnih melodij si čarobnega decembra sploh ne moremo predstavljati. Na letošnjem božično-novoletnem koncertu\, katerega glasbena šola organizira in pripravlja tradicionalno že kar nekaj let\, bodo v ospredju različni komorni sestavi\, godalni in pihalni orkester\, baletni oddelek\, zbor odraslih pevcev in učencev glasbene šole ter gostja Sara Lamprečnik. Zazvenele bodo slovenske ljudske in popularne melodije\, božične iz svetovne dediščine … Pridite\, praznujmo skupaj in se imejmo čarobno lepo.
URL:https://gsnazarje.si/event/bozicno-novoletni-koncert-4/
LOCATION:Športna dvorana Mozirje\, Šmihelska cesta 2\, Mozirje\, Slovenija\, 3330
CATEGORIES:Event,Javni nastopi
ATTACH;FMTTYPE=image/jpeg:https://gsnazarje.si/wp-content/uploads/2023/06/2023_Glasbena_sola_Nazarje_slavnostni_koncert20-scaled.jpg
ORGANIZER;CN="Glasbena %C5%A1ola Nazarje":MAILTO:info@gsnazarje.si
END:VEVENT
END:VCALENDAR