BEGIN:VCALENDAR
VERSION:2.0
PRODID:-//Glasbena &scaron;ola Nazarje - ECPv6.15.20//NONSGML v1.0//EN
CALSCALE:GREGORIAN
METHOD:PUBLISH
X-ORIGINAL-URL:https://gsnazarje.si
X-WR-CALDESC:Dogodki za Glasbena &scaron;ola Nazarje
REFRESH-INTERVAL;VALUE=DURATION:PT1H
X-Robots-Tag:noindex
X-PUBLISHED-TTL:PT1H
BEGIN:VTIMEZONE
TZID:Europe/Ljubljana
BEGIN:DAYLIGHT
TZOFFSETFROM:+0100
TZOFFSETTO:+0200
TZNAME:CEST
DTSTART:20230326T010000
END:DAYLIGHT
BEGIN:STANDARD
TZOFFSETFROM:+0200
TZOFFSETTO:+0100
TZNAME:CET
DTSTART:20231029T010000
END:STANDARD
BEGIN:DAYLIGHT
TZOFFSETFROM:+0100
TZOFFSETTO:+0200
TZNAME:CEST
DTSTART:20240331T010000
END:DAYLIGHT
BEGIN:STANDARD
TZOFFSETFROM:+0200
TZOFFSETTO:+0100
TZNAME:CET
DTSTART:20241027T010000
END:STANDARD
BEGIN:DAYLIGHT
TZOFFSETFROM:+0100
TZOFFSETTO:+0200
TZNAME:CEST
DTSTART:20250330T010000
END:DAYLIGHT
BEGIN:STANDARD
TZOFFSETFROM:+0200
TZOFFSETTO:+0100
TZNAME:CET
DTSTART:20251026T010000
END:STANDARD
END:VTIMEZONE
BEGIN:VEVENT
DTSTART;TZID=Europe/Ljubljana:20240119T190000
DTEND;TZID=Europe/Ljubljana:20240119T200000
DTSTAMP:20260424T232953
CREATED:20231123T074238Z
LAST-MODIFIED:20240115T102335Z
UID:10696-1705690800-1705694400@gsnazarje.si
SUMMARY:Giselle AHMADI - sopran\, Gregor RAVNIK - tenor\, Andreja KOSMAČ - klavir
DESCRIPTION:Petek\, 19. januar 2024\, ob 19. uri! \nKONGRESNI CENTER LJUBNO \n  \nPROGRAM \n\nGiuseppe Giordani: Caro mio ben\nGiacomo Puccini: O mio babbino caro\, arija Laurette iz opere Gianni Schicchi\nAntonin Dvořák: Měsíčku na nebi hlubokém\, arija Rusalke iz opere Rusalka\nR. Jahin: Kitme sandugač\nFranz Lehár: Meine Lippen\, si küssen so heiss\, arija Giuditte iz operne komedije Giuditta\nPyotr Tchaikovsky | Arija Lenskega iz opere Evgenij Onjegin „Kuda\, kuda vy udalilis..“\nA. Lara: Granada\nBenjamin Ipavec: Če na poljane rosa pade\nNikolaj Rimski – Korsakov: Arija Ljubaše iz opere Carska nevesta\nAleksandra Pahmutova: Beloveška pušča (Beloveški gozd)\nGiuseppe Verdi: arija Violette iz opere La traviata\nVincenzo Bellini: Casta diva\, arija Norme iz opere Norma\n\n  \nGiselle AHMADI – sopran \nGiselle AHMADI je po končani glasbeni šoli leta 2005\, ko je že bila nagrajenka številnih mednarodnih pevskih tekmovanj študij petja nadaljevala v Kazanu pri prof. Khairutdinovi Klari. Kasneje se je izobraževala na Državni akademiji za glasbo v Kazanu pri prof. Giniyatova KHADICHA\, kjer je tudi leta 2016 diplomirala.  \nŽe med študijem je sprejela številne operne vloge:  N. A. Rimskij Korsakov / Carjeva nevesta\, M. Mussorgsky / Khovanshchina\, M. Lermontov / Masquerade\, K. Molchanov / The Dawns Here Are Quiet\, A.Dvorak / Rusalka… \nPo končanem študiju je nekaj let poučevala petje na Kazanskem konservatoriju ter poučevala petje v Moskvi\, kjer je nastopala na prazničnih koncertih in drugih prireditvah.  \nLeta 2022 se je preselila v Slovenijo\, kjer sedaj deluje kot svobodna kulturna umetnica. \n  \nGregor RAVNIK – tenor \nGregor RAVNIK je z odliko magistriral iz petja na Akademiji za glasbo v Ljubljani v razredu prof. Pie Brodnik. Kot solist je sodeloval v številnih koncertnih projektih\, kot so Vesperae (Monteverdi)\, Janezov pasijon (Bach)\, Fantazija op. 80 (Beethoven)\, Očenaš (Janáček)\, Ljubezenski valčki in Novi ljubezenski valčki (Brahms)\, Dixit Dominus (Scarlatti)\, Elias (Mendelssohn). Predstavil se je v nosilnih vlogah opernih projektov Vojna in mir (L. Coryell)\, Hmeljska princesa (R. Gobec)\, Lucia di Lammermoor (G. Donizetti)\, Julija (A. Makovec)\, V objemu Lahinje (G. Zagorc)\, Oedipus Rex (I. Stravinski) ter v vlogi Tamina v Mozartovi operi Čarobni piščali\, v  vlogi Atona opere The Sound R. Goloba\, v vlogi Plutona v Offenbachovem Orfeju v peklu. Redno sodeluje tud s SKGG: otroški operi Brundibar in Veveriček posebne sorte\, opere Obrat vijaka skladatelja B. Brittna\, Martinujeva Ženitev\, Kingova Snežna kraljica in opereta Kandid L. Bernsteina\, muzikalu Mala nočna glasba. \nŽe od nekdaj se poleg klasične\, ukvarja tudi z zabavno glasbo. Lahko se pohvali s številnimi nastopi v televizijskih in radijskih oddajah\, njegov prvi festivalski nastop pa se je zgodil leta 2016 ma odru Melodij morja in sonca\, kjer je navdušil s pesmijo Glasba. Na Melodijah morja in sonca 2017 je ponovno požel odlične odzive s pesmijo Med nama\, za katero je prejel tudi nagrado za najboljšo izvedbo. \nNa festivalu EMA 2018 je nastopil s skladbo Zdaj je čas. \nLeta 2018 je na festivalu Popevka prejel nagrado za najboljšo interpretacijo za skladbo “Ti si”. \nLeta 2021 je s skladbo “Še ko te ni\, te imam” zmagal po mnenju strokovne komisije na festival Popevka. \nLeta 2023 je zmagal na festivalu MMS s pesmijo “Torek”. \n  \nAndreja Kosmač – pianistka \nPianistka Andreja KOSMAČ je z odliko diplomirala na Akademiji za glasbo v Ljubljani v razredu prof. Dubravke Tomšič Srebotnjak. Po diplomi se je izpopolnjevala pri prof. S. Gadžijevu\, prof. M. Van den Hoeku na dunajskem Konservatoriju ter na mojstrskih tečajih pri profesorjih J. Lateinerju\, L. Brumbergu\, S. Falvaiu\, R. Vardu in O. Maisenbergu. \nŽe v času študija je imela več samostojnih in komornih koncertov v Sloveniji\, Avstriji\, Italiji in Veliki Britaniji. Sodelovala je na številnih tekmovanjih in prejela vrsto prvih nagrad: Mozartovo klavirsko tekmovanje v Ljubljani 1991\, TEMSIG 1992 in 1995\, Mednarodno klavirsko tekmovanje Konzerteum v Grčiji 1995. Leta 1996 je prejela študentsko Prešernovo nagrado Akademije za glasbo. Arhivsko je snemala za RTV Slovenija in italijanski RAI ter sodelovala pri izdaji več zgoščenk.  \nKot solistka je igrala z orkestrom SGBŠ\, orkestrom Slovenske filharmonije\, s Simfoniki RTV Slovenija\, leta 2004 pa je kot predstavnica Slovenije nastopila z moskovskim komornim orkestrom Kremlin. Trenutno se posveča predvsem igranju komorne glasbe. Na recitalih in koncertnih nastopih nastopa z uveljavljenimi domačimi in tujimi umetniki\, predvsem s pevci in flavtisti. Pogosto kot korepetitorka sodeluje na mojstrskih tečajih\, ki jih vodijo vrhunski umetniki. \nKot pedagoginja je dejavna na Konservatoriju za glasbo in balet v Ljubljani\, kot umetniška sodelavka pa tudi na Akademiji za glasbo v Ljubljani.
URL:https://gsnazarje.si/event/koncert-guzel-akhmadeeva-sopran-andreja-kosmac-klavir/
LOCATION:KONGRESNI CENTER LJUBNO\, Foršt 6\, Ljubno ob Savinji\, 03 839 17 70\, 3333\, Slovenija
CATEGORIES:Event
ATTACH;FMTTYPE=image/png:https://gsnazarje.si/wp-content/uploads/2024/01/Screenshot-2024-01-08-at-10.51.05.png
ORGANIZER;CN="Glasbena %C5%A1ola Nazarje":MAILTO:info@gsnazarje.si
END:VEVENT
END:VCALENDAR